{
 "currentVersion": 11.5,
 "serviceDescription": "FerndaleOnline/2002_Aerial",
 "serviceItemId": "d48acd059d6d43408a9a624be7be0b15",
 "name": "FerndaleOnline/2002_Aerial",
 "description": "",
 "extent": {
  "xmin": 1203500,
  "ymin": 665200,
  "xmax": 1233499.5,
  "ymax": 701200,
  "spatialReference": {
   "wkid": 102748,
   "latestWkid": 2285
  }
 },
 "initialExtent": {
  "xmin": 1203500,
  "ymin": 665200,
  "xmax": 1233499.5,
  "ymax": 701200,
  "spatialReference": {
   "wkid": 102748,
   "latestWkid": 2285
  }
 },
 "fullExtent": {
  "xmin": 1203500,
  "ymin": 665200,
  "xmax": 1233499.5,
  "ymax": 701200,
  "spatialReference": {
   "wkid": 102748,
   "latestWkid": 2285
  }
 },
 "sortableFields": "",
 "bandCount": 3,
 "pixelType": "U8",
 "minValues": [
  32,
  22,
  20
 ],
 "maxValues": [
  255,
  255,
  255
 ],
 "meanValues": [
  197.62565263317,
  195.87470952165,
  186.42741813792
 ],
 "stdvValues": [
  67.067925585782,
  69.097580789341,
  79.913641556711
 ],
 "serviceProperties": "Center<\/MosaicMethod>First<\/MosaicOperator>true<\/SortAscending><\/LockImageID><\/TileOrderField>0<\/TileOrderBase>0.000000<\/AvgImageSpacingX>0.000000<\/AvgImageSpacingY>0.0<\/ViewPointX>0.0<\/ViewPointY>0.0<\/ViewPointDefShiftX>0.0<\/ViewPointDefShiftY>None<\/CompressionMethod>75<\/CompressionQuality>0.010000<\/CompressionTolerance>Bilinear<\/SamplingMethod><\/ImageServiceProperties><\/ImageServer>",
 "allowedFields": "",
 "hasMultidimensions": false,
 "pixelSizeX": 0.5,
 "pixelSizeY": 0.5,
 "meanPixelSize": 0.15240030480060962,
 "datasetFormat": "MrSID",
 "uncompressedSize": 12959784000,
 "blockWidth": 1024,
 "blockHeight": 128,
 "compressionType": "Wavelet (MG2)",
 "bandNames": [
  "Band_1",
  "Band_2",
  "Band_3"
 ],
 "allowCopy": true,
 "allowAnalysis": true,
 "itemAccess": false,
 "inspectionCapabilities": "",
 "minPixelSize": 0,
 "maxPixelSize": 0,
 "copyrightText": "",
 "serviceDataType": "esriImageServiceDataTypeRGB",
 "serviceSourceType": "esriImageServiceSourceTypeDataset",
 "objectIdField": "",
 "fields": [],
 "capabilities": "Image,Metadata,Mensuration",
 "defaultMosaicMethod": "Center",
 "allowedMosaicMethods": "",
 "sortField": "",
 "sortValue": null,
 "sortAscending": true,
 "mosaicOperator": "First",
 "defaultCompressionQuality": 75,
 "defaultResamplingMethod": "Bilinear",
 "maxImageHeight": 4100,
 "maxImageWidth": 15000,
 "allowRasterFunction": true,
 "rasterFunctionInfos": [
  {
   "name": "None",
   "description": "",
   "help": ""
  }
 ],
 "rasterTypeInfos": [
  {
   "name": "Raster Dataset",
   "description": "Supports all ArcGIS Raster Datasets",
   "help": ""
  }
 ],
 "mensurationCapabilities": "Basic",
 "hasHistograms": true,
 "hasColormap": false,
 "hasRasterAttributeTable": false,
 "minScale": 0,
 "maxScale": 0,
 "exportTilesAllowed": false,
 "supportsStatistics": false,
 "supportsAdvancedQueries": false,
 "editFieldsInfo": null,
 "ownershipBasedAccessControlForRasters": null,
 "allowComputeTiePoints": false,
 "useStandardizedQueries": true,
 "advancedQueryCapabilities": {
  "useStandardizedQueries": true,
  "supportsStatistics": false,
  "supportsOrderBy": false,
  "supportsDistinct": false,
  "supportsPagination": false
 },
 "spatialReference": {
  "wkid": 102748,
  "latestWkid": 2285
 }
}
