View In:
ArcGIS JavaScript
ArcGIS Online Map Viewer
ArcGIS Earth
Service Description: FerndaleOnline/2002_Aerial
Name: FerndaleOnline/2002_Aerial
Description:
Single Fused Map Cache: false
Extent:
XMin: 1203500.0
YMin: 665200.0
XMax: 1233499.5
YMax: 701200.0
Spatial Reference: 102748
(2285)
LatestVCSWkid(0)
Initial Extent:
XMin: 1203500.0
YMin: 665200.0
XMax: 1233499.5
YMax: 701200.0
Spatial Reference: 102748
(2285)
LatestVCSWkid(0)
Full Extent:
XMin: 1203500.0
YMin: 665200.0
XMax: 1233499.5
YMax: 701200.0
Spatial Reference: 102748
(2285)
LatestVCSWkid(0)
Pixel Size X: 0.5
Pixel Size Y: 0.5
Band Count: 3
Pixel Type: U8
RasterFunction Infos: {"rasterFunctionInfos": [{
"name": "None",
"description": "",
"help": ""
}]}
Mensuration Capabilities: Basic
Inspection Capabilities:
Has Histograms: true
Has Colormap: false
Has Multi Dimensions : false
Rendering Rule:
Min Scale: 0
Max Scale: 0
Copyright Text:
Service Data Type: esriImageServiceDataTypeRGB
Min Values: 32, 22, 20
Max Values: 255, 255, 255
Mean Values: 197.62565263317, 195.87470952165, 186.42741813792
Standard Deviation Values: 67.067925585782, 69.097580789341, 79.913641556711
Object ID Field:
Fields:
None
Default Mosaic Method: Center
Allowed Mosaic Methods:
SortField:
SortValue: null
Mosaic Operator: First
Default Compression Quality: 75
Default Resampling Method: Bilinear
Max Record Count: null
Max Image Height: 4100
Max Image Width: 15000
Max Download Image Count: null
Max Mosaic Image Count: null
Allow Raster Function: true
Allow Copy: true
Allow Analysis: true
Allow Compute TiePoints: false
Supports Statistics: false
Supports Advanced Queries: false
Use StandardizedQueries: true
Raster Type Infos:
Name: Raster Dataset
Description: Supports all ArcGIS Raster Datasets
Help:
Has Raster Attribute Table: false
Edit Fields Info: null
Ownership Based AccessControl For Rasters: null
Child Resources:
Info
Histograms
Statistics
Key Properties
Legend
Raster Function Infos
Supported Operations:
Export Image
Identify
Measure
Compute Histograms
Compute Statistics Histograms
Get Samples
Compute Class Statistics
Query Boundary
Compute Pixel Location
Compute Angles
Validate
Project